BEGIN:VCALENDAR
VERSION:2.0
PRODID:-//Central Utah Ballet Academy - ECPv6.15.18//NONSGML v1.0//EN
CALSCALE:GREGORIAN
METHOD:PUBLISH
X-ORIGINAL-URL:https://centralutahballet.com
X-WR-CALDESC:Events for Central Utah Ballet Academy
REFRESH-INTERVAL;VALUE=DURATION:PT1H
X-Robots-Tag:noindex
X-PUBLISHED-TTL:PT1H
BEGIN:VTIMEZONE
TZID:America/Denver
BEGIN:DAYLIGHT
TZOFFSETFROM:-0700
TZOFFSETTO:-0600
TZNAME:MDT
DTSTART:20250309T090000
END:DAYLIGHT
BEGIN:STANDARD
TZOFFSETFROM:-0600
TZOFFSETTO:-0700
TZNAME:MST
DTSTART:20251102T080000
END:STANDARD
BEGIN:DAYLIGHT
TZOFFSETFROM:-0700
TZOFFSETTO:-0600
TZNAME:MDT
DTSTART:20260308T090000
END:DAYLIGHT
BEGIN:STANDARD
TZOFFSETFROM:-0600
TZOFFSETTO:-0700
TZNAME:MST
DTSTART:20261101T080000
END:STANDARD
BEGIN:DAYLIGHT
TZOFFSETFROM:-0700
TZOFFSETTO:-0600
TZNAME:MDT
DTSTART:20270314T090000
END:DAYLIGHT
BEGIN:STANDARD
TZOFFSETFROM:-0600
TZOFFSETTO:-0700
TZNAME:MST
DTSTART:20271107T080000
END:STANDARD
BEGIN:DAYLIGHT
TZOFFSETFROM:-0700
TZOFFSETTO:-0600
TZNAME:MDT
DTSTART:20280312T090000
END:DAYLIGHT
BEGIN:STANDARD
TZOFFSETFROM:-0600
TZOFFSETTO:-0700
TZNAME:MST
DTSTART:20281105T080000
END:STANDARD
END:VTIMEZONE
BEGIN:VEVENT
DTSTART;VALUE=DATE:20260907
DTEND;VALUE=DATE:20260908
DTSTAMP:20260422T043158
CREATED:20260227T222243Z
LAST-MODIFIED:20260227T222243Z
UID:3369-1788739200-1788825599@centralutahballet.com
SUMMARY:Labor Day No Classes or Rehearsals
DESCRIPTION:
URL:https://centralutahballet.com/event/labor-day-no-classes-or-rehearsals/
CATEGORIES:Studio Closed
END:VEVENT
BEGIN:VEVENT
DTSTART;VALUE=DATE:20261015
DTEND;VALUE=DATE:20261019
DTSTAMP:20260422T043158
CREATED:20260227T222355Z
LAST-MODIFIED:20260227T222355Z
UID:3371-1792022400-1792367999@centralutahballet.com
SUMMARY:Fall Break No Classes or Rehearsals
DESCRIPTION:
URL:https://centralutahballet.com/event/fall-break-no-classes-or-rehearsals/
CATEGORIES:Studio Closed
END:VEVENT
BEGIN:VEVENT
DTSTART;VALUE=DATE:20261223
DTEND;VALUE=DATE:20270104
DTSTAMP:20260422T043158
CREATED:20260227T222653Z
LAST-MODIFIED:20260227T222653Z
UID:3377-1797984000-1799020799@centralutahballet.com
SUMMARY:Winter Break
DESCRIPTION:
URL:https://centralutahballet.com/event/winter-break-2/
CATEGORIES:Studio Closed
END:VEVENT
BEGIN:VEVENT
DTSTART;VALUE=DATE:20270215
DTEND;VALUE=DATE:20270216
DTSTAMP:20260422T043158
CREATED:20260227T222834Z
LAST-MODIFIED:20260227T222834Z
UID:3381-1802649600-1802735999@centralutahballet.com
SUMMARY:Presidents Day No Classes or Rehearsals
DESCRIPTION:
URL:https://centralutahballet.com/event/presidents-day-no-classes-or-rehearsals/
CATEGORIES:Studio Closed
END:VEVENT
BEGIN:VEVENT
DTSTART;VALUE=DATE:20270406
DTEND;VALUE=DATE:20270410
DTSTAMP:20260422T043158
CREATED:20260227T223057Z
LAST-MODIFIED:20260227T223057Z
UID:3385-1806969600-1807315199@centralutahballet.com
SUMMARY:Spring Break  No Classes or Rehearsals
DESCRIPTION:
URL:https://centralutahballet.com/event/spring-break-no-classes-or-rehearsals/
CATEGORIES:Studio Closed
END:VEVENT
END:VCALENDAR