BEGIN:VCALENDAR
VERSION:2.0
PRODID:-//Central Utah Ballet Academy - ECPv6.15.18//NONSGML v1.0//EN
CALSCALE:GREGORIAN
METHOD:PUBLISH
X-WR-CALNAME:Central Utah Ballet Academy
X-ORIGINAL-URL:https://centralutahballet.com
X-WR-CALDESC:Events for Central Utah Ballet Academy
REFRESH-INTERVAL;VALUE=DURATION:PT1H
X-Robots-Tag:noindex
X-PUBLISHED-TTL:PT1H
BEGIN:VTIMEZONE
TZID:America/Denver
BEGIN:DAYLIGHT
TZOFFSETFROM:-0700
TZOFFSETTO:-0600
TZNAME:MDT
DTSTART:20210314T090000
END:DAYLIGHT
BEGIN:STANDARD
TZOFFSETFROM:-0600
TZOFFSETTO:-0700
TZNAME:MST
DTSTART:20211107T080000
END:STANDARD
BEGIN:DAYLIGHT
TZOFFSETFROM:-0700
TZOFFSETTO:-0600
TZNAME:MDT
DTSTART:20220313T090000
END:DAYLIGHT
BEGIN:STANDARD
TZOFFSETFROM:-0600
TZOFFSETTO:-0700
TZNAME:MST
DTSTART:20221106T080000
END:STANDARD
BEGIN:DAYLIGHT
TZOFFSETFROM:-0700
TZOFFSETTO:-0600
TZNAME:MDT
DTSTART:20230312T090000
END:DAYLIGHT
BEGIN:STANDARD
TZOFFSETFROM:-0600
TZOFFSETTO:-0700
TZNAME:MST
DTSTART:20231105T080000
END:STANDARD
BEGIN:DAYLIGHT
TZOFFSETFROM:-0700
TZOFFSETTO:-0600
TZNAME:MDT
DTSTART:20240310T090000
END:DAYLIGHT
BEGIN:STANDARD
TZOFFSETFROM:-0600
TZOFFSETTO:-0700
TZNAME:MST
DTSTART:20241103T080000
END:STANDARD
BEGIN:DAYLIGHT
TZOFFSETFROM:-0700
TZOFFSETTO:-0600
TZNAME:MDT
DTSTART:20250309T090000
END:DAYLIGHT
BEGIN:STANDARD
TZOFFSETFROM:-0600
TZOFFSETTO:-0700
TZNAME:MST
DTSTART:20251102T080000
END:STANDARD
BEGIN:DAYLIGHT
TZOFFSETFROM:-0700
TZOFFSETTO:-0600
TZNAME:MDT
DTSTART:20260308T090000
END:DAYLIGHT
BEGIN:STANDARD
TZOFFSETFROM:-0600
TZOFFSETTO:-0700
TZNAME:MST
DTSTART:20261101T080000
END:STANDARD
END:VTIMEZONE
BEGIN:VEVENT
DTSTART;VALUE=DATE:20250331
DTEND;VALUE=DATE:20250405
DTSTAMP:20260422T060908
CREATED:20240616T063951Z
LAST-MODIFIED:20240616T063951Z
UID:2590-1743379200-1743811199@centralutahballet.com
SUMMARY:Spring Break - Studio Closed
DESCRIPTION:
URL:https://centralutahballet.com/event/spring-break-studio-closed-2/
CATEGORIES:Studio Closed
END:VEVENT
BEGIN:VEVENT
DTSTART;VALUE=DATE:20241222
DTEND;VALUE=DATE:20250106
DTSTAMP:20260422T060908
CREATED:20240808T183421Z
LAST-MODIFIED:20240808T183421Z
UID:2643-1734825600-1736121599@centralutahballet.com
SUMMARY:Winter Break
DESCRIPTION:
URL:https://centralutahballet.com/event/winter-break/
CATEGORIES:Studio Closed
END:VEVENT
BEGIN:VEVENT
DTSTART;VALUE=DATE:20241127
DTEND;VALUE=DATE:20241130
DTSTAMP:20260422T060908
CREATED:20240616T063912Z
LAST-MODIFIED:20240616T063912Z
UID:2588-1732665600-1732924799@centralutahballet.com
SUMMARY:Thanksgiving - Studio Closed
DESCRIPTION:
URL:https://centralutahballet.com/event/thanksgiving-studio-closed/
CATEGORIES:Studio Closed
END:VEVENT
BEGIN:VEVENT
DTSTART;VALUE=DATE:20241017
DTEND;VALUE=DATE:20241022
DTSTAMP:20260422T060908
CREATED:20240616T063754Z
LAST-MODIFIED:20240616T063754Z
UID:2586-1729123200-1729555199@centralutahballet.com
SUMMARY:Fall Break - Studio Closed
DESCRIPTION:
URL:https://centralutahballet.com/event/fall-break-studio-closed-3/
CATEGORIES:Studio Closed
END:VEVENT
BEGIN:VEVENT
DTSTART;VALUE=DATE:20240401
DTEND;VALUE=DATE:20240406
DTSTAMP:20260422T060908
CREATED:20230715T202737Z
LAST-MODIFIED:20230808T022457Z
UID:2201-1711929600-1712361599@centralutahballet.com
SUMMARY:Spring Break - Studio Closed
DESCRIPTION:
URL:https://centralutahballet.com/event/spring-break-studio-closed/
CATEGORIES:Studio Closed
END:VEVENT
BEGIN:VEVENT
DTSTART;VALUE=DATE:20240219
DTEND;VALUE=DATE:20240220
DTSTAMP:20260422T060908
CREATED:20230715T202657Z
LAST-MODIFIED:20230721T155609Z
UID:2199-1708300800-1708387199@centralutahballet.com
SUMMARY:President's Day - Studio Closed
DESCRIPTION:
URL:https://centralutahballet.com/event/presidents-day-studio-closed/
CATEGORIES:Studio Closed
END:VEVENT
BEGIN:VEVENT
DTSTART;VALUE=DATE:20231222
DTEND;VALUE=DATE:20240108
DTSTAMP:20260422T060908
CREATED:20230721T154839Z
LAST-MODIFIED:20230721T155544Z
UID:2241-1703203200-1704671999@centralutahballet.com
SUMMARY:Christmas Break - Studio Closed
DESCRIPTION:
URL:https://centralutahballet.com/event/christmas-break-studio-closed-3/
CATEGORIES:Studio Closed
END:VEVENT
BEGIN:VEVENT
DTSTART;VALUE=DATE:20231122
DTEND;VALUE=DATE:20231127
DTSTAMP:20260422T060908
CREATED:20230715T202528Z
LAST-MODIFIED:20230721T155639Z
UID:2195-1700611200-1701043199@centralutahballet.com
SUMMARY:Thanksgiving Break - Studio Closed
DESCRIPTION:
URL:https://centralutahballet.com/event/thanksgiving-break-studio-closed-2/
CATEGORIES:Studio Closed
END:VEVENT
BEGIN:VEVENT
DTSTART;VALUE=DATE:20231019
DTEND;VALUE=DATE:20231024
DTSTAMP:20260422T060908
CREATED:20230721T154746Z
LAST-MODIFIED:20230721T155415Z
UID:2239-1697673600-1698105599@centralutahballet.com
SUMMARY:Fall Break - Studio Closed
DESCRIPTION:
URL:https://centralutahballet.com/event/fall-break-studio-closed-2/
CATEGORIES:Studio Closed
END:VEVENT
BEGIN:VEVENT
DTSTART;VALUE=DATE:20230904
DTEND;VALUE=DATE:20230905
DTSTAMP:20260422T060908
CREATED:20230715T202416Z
LAST-MODIFIED:20230721T155718Z
UID:2193-1693785600-1693871999@centralutahballet.com
SUMMARY:Labor Day - Studio Closed
DESCRIPTION:
URL:https://centralutahballet.com/event/labor-day-studio-closed-2/
CATEGORIES:Studio Closed
END:VEVENT
BEGIN:VEVENT
DTSTART;VALUE=DATE:20230403
DTEND;VALUE=DATE:20230409
DTSTAMP:20260422T060908
CREATED:20230130T131830Z
LAST-MODIFIED:20230130T131830Z
UID:2053-1680480000-1680998399@centralutahballet.com
SUMMARY:Spring Break
DESCRIPTION:No Classes April 3-8 for Spring Break
URL:https://centralutahballet.com/event/spring-break/
CATEGORIES:Studio Closed
END:VEVENT
BEGIN:VEVENT
DTSTART;VALUE=DATE:20230220
DTEND;VALUE=DATE:20230221
DTSTAMP:20260422T060908
CREATED:20220628T142602Z
LAST-MODIFIED:20220628T142602Z
UID:1749-1676851200-1676937599@centralutahballet.com
SUMMARY:President's Day - Studio Closed for Select Classes
DESCRIPTION:Studio Closed for all classes except for Ballet 4\, Ballet 5\, Ballet 6\, Junior Company and Senior Company *In studio Mandatory Dress Rehearsal for “Signatures” Central Utah Ballet
URL:https://centralutahballet.com/event/presidents-day-studio-closed-for-select-classes/
CATEGORIES:Studio Closed
END:VEVENT
BEGIN:VEVENT
DTSTART;VALUE=DATE:20230116
DTEND;VALUE=DATE:20230117
DTSTAMP:20260422T060908
CREATED:20220628T142514Z
LAST-MODIFIED:20220628T142514Z
UID:1747-1673827200-1673913599@centralutahballet.com
SUMMARY:Martin Luther King Jr. Day - Studio Closed
DESCRIPTION:
URL:https://centralutahballet.com/event/martin-luther-king-jr-day-studio-closed/
CATEGORIES:Studio Closed
END:VEVENT
BEGIN:VEVENT
DTSTART;VALUE=DATE:20221218
DTEND;VALUE=DATE:20230102
DTSTAMP:20260422T060908
CREATED:20220628T142419Z
LAST-MODIFIED:20221118T200300Z
UID:1743-1671321600-1672617599@centralutahballet.com
SUMMARY:Christmas Break - Studio Closed
DESCRIPTION:
URL:https://centralutahballet.com/event/christmas-break-studio-closed/
CATEGORIES:Studio Closed
END:VEVENT
BEGIN:VEVENT
DTSTART;VALUE=DATE:20221123
DTEND;VALUE=DATE:20221128
DTSTAMP:20260422T060908
CREATED:20220628T142331Z
LAST-MODIFIED:20220628T142331Z
UID:1741-1669161600-1669593599@centralutahballet.com
SUMMARY:Thanksgiving Break - Studio Closed
DESCRIPTION:
URL:https://centralutahballet.com/event/thanksgiving-break-studio-closed/
CATEGORIES:Studio Closed
END:VEVENT
BEGIN:VEVENT
DTSTART;VALUE=DATE:20221013
DTEND;VALUE=DATE:20221018
DTSTAMP:20260422T060908
CREATED:20220628T141752Z
LAST-MODIFIED:20220628T141752Z
UID:1738-1665619200-1666051199@centralutahballet.com
SUMMARY:Fall Break - Studio Closed
DESCRIPTION:Following Alpine School District Fall Break
URL:https://centralutahballet.com/event/fall-break-studio-closed/
CATEGORIES:Studio Closed
END:VEVENT
BEGIN:VEVENT
DTSTART;VALUE=DATE:20220905
DTEND;VALUE=DATE:20220906
DTSTAMP:20260422T060908
CREATED:20220628T141658Z
LAST-MODIFIED:20220628T141658Z
UID:1736-1662336000-1662422399@centralutahballet.com
SUMMARY:Labor Day - Studio Closed
DESCRIPTION:
URL:https://centralutahballet.com/event/labor-day-studio-closed/
CATEGORIES:Studio Closed
END:VEVENT
BEGIN:VEVENT
DTSTART;VALUE=DATE:20220711
DTEND;VALUE=DATE:20220731
DTSTAMP:20260422T060908
CREATED:20220104T023110Z
LAST-MODIFIED:20220104T023110Z
UID:1548-1657497600-1659225599@centralutahballet.com
SUMMARY:Studio Open by Appointment Only
DESCRIPTION:The studio will be open by appointment only. Please email office@centralutahballet.com to schedule an appointment.
URL:https://centralutahballet.com/event/studio-open-by-appointment-only/
CATEGORIES:Studio Closed
END:VEVENT
BEGIN:VEVENT
DTSTART;VALUE=DATE:20220530
DTEND;VALUE=DATE:20220612
DTSTAMP:20260422T060908
CREATED:20220104T022143Z
LAST-MODIFIED:20220104T022143Z
UID:1538-1653868800-1654991999@centralutahballet.com
SUMMARY:Studio Closed
DESCRIPTION:
URL:https://centralutahballet.com/event/studio-closed/
CATEGORIES:Studio Closed
END:VEVENT
END:VCALENDAR