BEGIN:VCALENDAR
VERSION:2.0
PRODID:-//Central Utah Ballet Academy - ECPv6.15.18//NONSGML v1.0//EN
CALSCALE:GREGORIAN
METHOD:PUBLISH
X-WR-CALNAME:Central Utah Ballet Academy
X-ORIGINAL-URL:https://centralutahballet.com
X-WR-CALDESC:Events for Central Utah Ballet Academy
REFRESH-INTERVAL;VALUE=DURATION:PT1H
X-Robots-Tag:noindex
X-PUBLISHED-TTL:PT1H
BEGIN:VTIMEZONE
TZID:America/Denver
BEGIN:DAYLIGHT
TZOFFSETFROM:-0700
TZOFFSETTO:-0600
TZNAME:MDT
DTSTART:20250309T090000
END:DAYLIGHT
BEGIN:STANDARD
TZOFFSETFROM:-0600
TZOFFSETTO:-0700
TZNAME:MST
DTSTART:20251102T080000
END:STANDARD
BEGIN:DAYLIGHT
TZOFFSETFROM:-0700
TZOFFSETTO:-0600
TZNAME:MDT
DTSTART:20260308T090000
END:DAYLIGHT
BEGIN:STANDARD
TZOFFSETFROM:-0600
TZOFFSETTO:-0700
TZNAME:MST
DTSTART:20261101T080000
END:STANDARD
BEGIN:DAYLIGHT
TZOFFSETFROM:-0700
TZOFFSETTO:-0600
TZNAME:MDT
DTSTART:20270314T090000
END:DAYLIGHT
BEGIN:STANDARD
TZOFFSETFROM:-0600
TZOFFSETTO:-0700
TZNAME:MST
DTSTART:20271107T080000
END:STANDARD
BEGIN:DAYLIGHT
TZOFFSETFROM:-0700
TZOFFSETTO:-0600
TZNAME:MDT
DTSTART:20280312T090000
END:DAYLIGHT
BEGIN:STANDARD
TZOFFSETFROM:-0600
TZOFFSETTO:-0700
TZNAME:MST
DTSTART:20281105T080000
END:STANDARD
END:VTIMEZONE
BEGIN:VEVENT
DTSTART;VALUE=DATE:20260423
DTEND;VALUE=DATE:20260426
DTSTAMP:20260422T124800
CREATED:20260227T220328Z
LAST-MODIFIED:20260305T004218Z
UID:3348-1776902400-1777161599@centralutahballet.com
SUMMARY:Spring Performance at Mid Valley Performing Arts Center
DESCRIPTION:Mainstage Theatre/ Centennial Room | Midvalley Performing Arts Center 
URL:https://centralutahballet.com/event/spring-performance-at-mid-valley-performing-arts-center-main-stage/
LOCATION:Mid Valley Performing Arts Center\, 2525 Taylorsville Blvd\, Taylorsville\, UT\, 84129\, United States
CATEGORIES:Performances
END:VEVENT
BEGIN:VEVENT
DTSTART;VALUE=DATE:20260912
DTEND;VALUE=DATE:20260913
DTSTAMP:20260422T124800
CREATED:20260227T221121Z
LAST-MODIFIED:20260305T004857Z
UID:3356-1789171200-1789257599@centralutahballet.com
SUMMARY:Dance for Life Performance at the Capitol Theatre
DESCRIPTION:
URL:https://centralutahballet.com/event/dance-for-life-performance-at-the-capitol-theatre/
LOCATION:Capitol Theater in Salt Lake City\, 50 W 200 S\, Salt Lake City\, UT\, 84101
CATEGORIES:Chrysalis Ballet,Performances
END:VEVENT
BEGIN:VEVENT
DTSTART;VALUE=DATE:20261109
DTEND;VALUE=DATE:20261115
DTSTAMP:20260422T124800
CREATED:20260227T221339Z
LAST-MODIFIED:20260227T221339Z
UID:3358-1794182400-1794700799@centralutahballet.com
SUMMARY:Nutcracker
DESCRIPTION:
URL:https://centralutahballet.com/event/nutcracker-2/
LOCATION:Covey Center for the Arts\, 425 W Center St\, Provo\, UT\, 84601
CATEGORIES:Chrysalis Ballet,Nutcracker,Performances
END:VEVENT
BEGIN:VEVENT
DTSTART;VALUE=DATE:20270421
DTEND;VALUE=DATE:20270428
DTSTAMP:20260422T124800
CREATED:20260227T220530Z
LAST-MODIFIED:20260305T003911Z
UID:3351-1808265600-1808870399@centralutahballet.com
SUMMARY:Spring Performance at Mid Valley Performing Arts Center
DESCRIPTION:Mainstage Theatre/ Centennial Room | Midvalley Performing Arts Center 
URL:https://centralutahballet.com/event/spring-performance-at-mid-valley-performing-arts-center-main-stage-2/
LOCATION:Mid Valley Performing Arts Center\, 2525 Taylorsville Blvd\, Taylorsville\, UT\, 84129\, United States
CATEGORIES:Performances
END:VEVENT
BEGIN:VEVENT
DTSTART;VALUE=DATE:20270421
DTEND;VALUE=DATE:20270428
DTSTAMP:20260422T124800
CREATED:20260227T223157Z
LAST-MODIFIED:20260227T223157Z
UID:3387-1808265600-1808870399@centralutahballet.com
SUMMARY:Spring Performance
DESCRIPTION:
URL:https://centralutahballet.com/event/spring-performance-3/
CATEGORIES:Performances
END:VEVENT
END:VCALENDAR