BEGIN:VCALENDAR
VERSION:2.0
PRODID:-//Central Utah Ballet Academy - ECPv6.15.18//NONSGML v1.0//EN
CALSCALE:GREGORIAN
METHOD:PUBLISH
X-ORIGINAL-URL:https://centralutahballet.com
X-WR-CALDESC:Events for Central Utah Ballet Academy
REFRESH-INTERVAL;VALUE=DURATION:PT1H
X-Robots-Tag:noindex
X-PUBLISHED-TTL:PT1H
BEGIN:VTIMEZONE
TZID:America/Denver
BEGIN:DAYLIGHT
TZOFFSETFROM:-0700
TZOFFSETTO:-0600
TZNAME:MDT
DTSTART:20210314T090000
END:DAYLIGHT
BEGIN:STANDARD
TZOFFSETFROM:-0600
TZOFFSETTO:-0700
TZNAME:MST
DTSTART:20211107T080000
END:STANDARD
BEGIN:DAYLIGHT
TZOFFSETFROM:-0700
TZOFFSETTO:-0600
TZNAME:MDT
DTSTART:20220313T090000
END:DAYLIGHT
BEGIN:STANDARD
TZOFFSETFROM:-0600
TZOFFSETTO:-0700
TZNAME:MST
DTSTART:20221106T080000
END:STANDARD
BEGIN:DAYLIGHT
TZOFFSETFROM:-0700
TZOFFSETTO:-0600
TZNAME:MDT
DTSTART:20230312T090000
END:DAYLIGHT
BEGIN:STANDARD
TZOFFSETFROM:-0600
TZOFFSETTO:-0700
TZNAME:MST
DTSTART:20231105T080000
END:STANDARD
BEGIN:DAYLIGHT
TZOFFSETFROM:-0700
TZOFFSETTO:-0600
TZNAME:MDT
DTSTART:20240310T090000
END:DAYLIGHT
BEGIN:STANDARD
TZOFFSETFROM:-0600
TZOFFSETTO:-0700
TZNAME:MST
DTSTART:20241103T080000
END:STANDARD
BEGIN:DAYLIGHT
TZOFFSETFROM:-0700
TZOFFSETTO:-0600
TZNAME:MDT
DTSTART:20250309T090000
END:DAYLIGHT
BEGIN:STANDARD
TZOFFSETFROM:-0600
TZOFFSETTO:-0700
TZNAME:MST
DTSTART:20251102T080000
END:STANDARD
BEGIN:DAYLIGHT
TZOFFSETFROM:-0700
TZOFFSETTO:-0600
TZNAME:MDT
DTSTART:20260308T090000
END:DAYLIGHT
BEGIN:STANDARD
TZOFFSETFROM:-0600
TZOFFSETTO:-0700
TZNAME:MST
DTSTART:20261101T080000
END:STANDARD
BEGIN:DAYLIGHT
TZOFFSETFROM:-0700
TZOFFSETTO:-0600
TZNAME:MDT
DTSTART:20270314T090000
END:DAYLIGHT
BEGIN:STANDARD
TZOFFSETFROM:-0600
TZOFFSETTO:-0700
TZNAME:MST
DTSTART:20271107T080000
END:STANDARD
END:VTIMEZONE
BEGIN:VEVENT
DTSTART;VALUE=DATE:20260326
DTEND;VALUE=DATE:20260329
DTSTAMP:20260422T142426
CREATED:20260227T220825Z
LAST-MODIFIED:20260227T220927Z
UID:3353-1774483200-1774742399@centralutahballet.com
SUMMARY:Signatures Performance at Mid Valley Performing Arts Center
DESCRIPTION:Studio 5400
URL:https://centralutahballet.com/event/signatures-performance-at-mid-valley-performing-arts-center/
LOCATION:Mid Valley Performing Arts Center\, 2525 Taylorsville Blvd\, Taylorsville\, UT\, 84129\, United States
CATEGORIES:Chrysalis Ballet,Performances
END:VEVENT
BEGIN:VEVENT
DTSTART;VALUE=DATE:20260326
DTEND;VALUE=DATE:20260329
DTSTAMP:20260422T142426
CREATED:20250508T034236Z
LAST-MODIFIED:20260305T004800Z
UID:2815-1774483200-1774742399@centralutahballet.com
SUMMARY:“Signatures” - Chrysalis Ballet
DESCRIPTION:Studio 5400\, North Studio | Midvalley Performing Arts Center
URL:https://centralutahballet.com/event/signatures-chrysalis-junior-senior-co/
LOCATION:Mid-Valley Performing Arts Center\, 2525 Taylorsville Blvd\, Taylorsville\, Utah\, 84129
CATEGORIES:"Signatures" Company Performance,Chrysalis Ballet,Performances
END:VEVENT
BEGIN:VEVENT
DTSTART;VALUE=DATE:20250424
DTEND;VALUE=DATE:20250427
DTSTAMP:20260422T142426
CREATED:20240520T162228Z
LAST-MODIFIED:20240808T181751Z
UID:2538-1745452800-1745711999@centralutahballet.com
SUMMARY:Midsummer Night's Dream
DESCRIPTION:All levels will participate.
URL:https://centralutahballet.com/event/midsummers-night-dream/
LOCATION:Mid-Valley Performing Arts Center\, 2525 Taylorsville Blvd\, Taylorsville\, Utah\, 84129
CATEGORIES:Performances
END:VEVENT
BEGIN:VEVENT
DTSTART;VALUE=DATE:20250327
DTEND;VALUE=DATE:20250329
DTSTAMP:20260422T142426
CREATED:20240520T162110Z
LAST-MODIFIED:20240520T162125Z
UID:2534-1743033600-1743206399@centralutahballet.com
SUMMARY:Portraits in Time Performance
DESCRIPTION:Chrysalis\, Senior Company\, Junior Company
URL:https://centralutahballet.com/event/portraits-in-time-performance/
LOCATION:Mid-Valley Performing Arts Center\, 2525 Taylorsville Blvd\, Taylorsville\, Utah\, 84129
CATEGORIES:Performances
END:VEVENT
BEGIN:VEVENT
DTSTART;TZID=America/Denver:20240629T193000
DTEND;TZID=America/Denver:20240629T203000
DTSTAMP:20260422T142426
CREATED:20240616T063649Z
LAST-MODIFIED:20240616T063649Z
UID:2584-1719689400-1719693000@centralutahballet.com
SUMMARY:Summer Intensive Performance
DESCRIPTION:
URL:https://centralutahballet.com/event/summer-intensive-performance/
CATEGORIES:Performances
END:VEVENT
BEGIN:VEVENT
DTSTART;VALUE=DATE:20240425
DTEND;VALUE=DATE:20240428
DTSTAMP:20260422T142426
CREATED:20230308T232521Z
LAST-MODIFIED:20230308T232521Z
UID:2077-1714003200-1714262399@centralutahballet.com
SUMMARY:Spring Performance
DESCRIPTION:
URL:https://centralutahballet.com/event/spring-performance-2/
LOCATION:Mid-Valley Performing Arts Center\, 2525 Taylorsville Blvd\, Taylorsville\, Utah\, 84129
CATEGORIES:Performances
END:VEVENT
BEGIN:VEVENT
DTSTART;TZID=America/Denver:20231109T193000
DTEND;TZID=America/Denver:20231109T213000
DTSTAMP:20260422T142426
CREATED:20230721T160204Z
LAST-MODIFIED:20230721T160204Z
UID:2255-1699558200-1699565400@centralutahballet.com
SUMMARY:Nutcracker Performance
DESCRIPTION:
URL:https://centralutahballet.com/event/nutcracker-performance-5/
LOCATION:Covey Center for the Arts\, 425 W Center St\, Provo\, UT\, 84601
CATEGORIES:Chrysalis Ballet,Nutcracker,Performances
END:VEVENT
BEGIN:VEVENT
DTSTART;TZID=America/Denver:20231109T170000
DTEND;TZID=America/Denver:20231109T190000
DTSTAMP:20260422T142426
CREATED:20230721T160124Z
LAST-MODIFIED:20230721T160124Z
UID:2253-1699549200-1699556400@centralutahballet.com
SUMMARY:Nutcracker Performance
DESCRIPTION:
URL:https://centralutahballet.com/event/nutcracker-performance-4/
LOCATION:Covey Center for the Arts\, 425 W Center St\, Provo\, UT\, 84601
CATEGORIES:Chrysalis Ballet,Nutcracker,Performances
END:VEVENT
BEGIN:VEVENT
DTSTART;TZID=America/Denver:20231108T193000
DTEND;TZID=America/Denver:20231108T213000
DTSTAMP:20260422T142426
CREATED:20230721T160017Z
LAST-MODIFIED:20230721T160017Z
UID:2251-1699471800-1699479000@centralutahballet.com
SUMMARY:Nutcracker Performance
DESCRIPTION:
URL:https://centralutahballet.com/event/nutcracker-performance-3/
LOCATION:Covey Center for the Arts\, 425 W Center St\, Provo\, UT\, 84601
CATEGORIES:Chrysalis Ballet,Nutcracker,Performances
END:VEVENT
BEGIN:VEVENT
DTSTART;TZID=America/Denver:20231108T170000
DTEND;TZID=America/Denver:20231108T190000
DTSTAMP:20260422T142426
CREATED:20230721T155912Z
LAST-MODIFIED:20230721T155912Z
UID:2249-1699462800-1699470000@centralutahballet.com
SUMMARY:Nutcracker Performance
DESCRIPTION:
URL:https://centralutahballet.com/event/nutcracker-performance-2/
LOCATION:Covey Center for the Arts\, 425 W Center St\, Provo\, UT\, 84601
CATEGORIES:Chrysalis Ballet,Nutcracker,Performances
END:VEVENT
BEGIN:VEVENT
DTSTART;TZID=America/Denver:20231107T193000
DTEND;TZID=America/Denver:20231107T213000
DTSTAMP:20260422T142426
CREATED:20230721T155136Z
LAST-MODIFIED:20230721T155810Z
UID:2247-1699385400-1699392600@centralutahballet.com
SUMMARY:Nutcracker Performance
DESCRIPTION:
URL:https://centralutahballet.com/event/nutcracker-performance/
LOCATION:Covey Center for the Arts\, 425 W Center St\, Provo\, UT\, 84601
CATEGORIES:Chrysalis Ballet,Nutcracker,Performances
END:VEVENT
BEGIN:VEVENT
DTSTART;VALUE=DATE:20231106
DTEND;VALUE=DATE:20231107
DTSTAMP:20260422T142426
CREATED:20230721T155027Z
LAST-MODIFIED:20230721T155346Z
UID:2245-1699228800-1699315199@centralutahballet.com
SUMMARY:Nutcracker Dress Rehearsal
DESCRIPTION:Covey Center
URL:https://centralutahballet.com/event/nutcracker-dress-rehearsal/
LOCATION:Covey Center for the Arts\, 425 W Center St\, Provo\, UT\, 84601
CATEGORIES:Chrysalis Ballet,Nutcracker,Performances
END:VEVENT
BEGIN:VEVENT
DTSTART;TZID=America/Denver:20231014T190000
DTEND;TZID=America/Denver:20231014T210000
DTSTAMP:20260422T142426
CREATED:20230308T231739Z
LAST-MODIFIED:20230308T231739Z
UID:2067-1697310000-1697317200@centralutahballet.com
SUMMARY:Junior Company\, Senior Company\, Chrysalis Ballet Performance
DESCRIPTION:Saturday October 14th\, 2023 @ 7:00 \nJunior Company\, Senior Company\, Chrysalis Ballet \nWhere: Perry Egyptian Theatre in Ogden UT \nChoreography: Shani Robison \nWinner of the Red Rock Choreography Festival
URL:https://centralutahballet.com/event/junior-senior-chrysalis-performance/
LOCATION:Perry Egyptian Theater in Ogden\, UT\, 2415 Washington Blvd\, Ogden\, UT\, 84401
CATEGORIES:Chrysalis Ballet,Performances
END:VEVENT
BEGIN:VEVENT
DTSTART;VALUE=DATE:20230915
DTEND;VALUE=DATE:20230917
DTSTAMP:20260422T142426
CREATED:20230308T231915Z
LAST-MODIFIED:20230308T231915Z
UID:2070-1694736000-1694908799@centralutahballet.com
SUMMARY:Dance for Life
DESCRIPTION:Dance for Life \nWhere: Capitol Theatre Salt Lake \nJunior Company\, Senior Company\, Chrysalis
URL:https://centralutahballet.com/event/dance-for-life/
LOCATION:Capitol Theater in Salt Lake City\, 50 W 200 S\, Salt Lake City\, UT\, 84101
CATEGORIES:Chrysalis Ballet,Performances
END:VEVENT
BEGIN:VEVENT
DTSTART;VALUE=DATE:20230223
DTEND;VALUE=DATE:20230226
DTSTAMP:20260422T142426
CREATED:20220614T162419Z
LAST-MODIFIED:20220628T142750Z
UID:1731-1677110400-1677369599@centralutahballet.com
SUMMARY:Chrysalis Ballet\, Junction\, SALT\, and SHIFT Performance
DESCRIPTION:Chrysalis Ballet\, Junction\, SALT\, and SHIFT\nPerformance \nFebruary 22nd\, 23rd\, 24th\, and 25th 7:30 pm\nAt Mid Valley Performing Arts Center
URL:https://centralutahballet.com/event/chrysalis-ballet-junction-salt-and-shift-performance/
CATEGORIES:Chrysalis Ballet,Performances
END:VEVENT
BEGIN:VEVENT
DTSTART;TZID=America/Denver:20230221T193000
DTEND;TZID=America/Denver:20230221T203000
DTSTAMP:20260422T142426
CREATED:20220614T162320Z
LAST-MODIFIED:20220628T142657Z
UID:1729-1677007800-1677011400@centralutahballet.com
SUMMARY:"Signatures" Performance
DESCRIPTION:February 21st\n“Signatures” 7:30 pm at Covey Center
URL:https://centralutahballet.com/event/signatures-performance-2/
LOCATION:Covey Center for the Arts\, 425 W Center St\, Provo\, UT\, 84601
CATEGORIES:"Signatures" Company Performance,Performances
END:VEVENT
BEGIN:VEVENT
DTSTART;TZID=America/Denver:20221110T193000
DTEND;TZID=America/Denver:20221110T203000
DTSTAMP:20260422T142426
CREATED:20220614T162155Z
LAST-MODIFIED:20220628T141924Z
UID:1727-1668108600-1668112200@centralutahballet.com
SUMMARY:Nutcracker Performance at Covey Center
DESCRIPTION:
URL:https://centralutahballet.com/event/nutcracker-performance-at-covey-center-5/
LOCATION:Covey Center for the Arts\, 425 W Center St\, Provo\, UT\, 84601
CATEGORIES:Chrysalis Ballet,Nutcracker,Performances
END:VEVENT
BEGIN:VEVENT
DTSTART;TZID=America/Denver:20221110T170000
DTEND;TZID=America/Denver:20221110T180000
DTSTAMP:20260422T142426
CREATED:20220614T162123Z
LAST-MODIFIED:20220804T220729Z
UID:1725-1668099600-1668103200@centralutahballet.com
SUMMARY:Nutcracker Performance at Covey Center
DESCRIPTION:
URL:https://centralutahballet.com/event/nutcracker-performance-at-covey-center-4/
LOCATION:Covey Center for the Arts\, 425 W Center St\, Provo\, UT\, 84601
CATEGORIES:Chrysalis Ballet,Nutcracker,Performances
END:VEVENT
BEGIN:VEVENT
DTSTART;TZID=America/Denver:20221109T193000
DTEND;TZID=America/Denver:20221109T203000
DTSTAMP:20260422T142426
CREATED:20220614T162042Z
LAST-MODIFIED:20220804T220711Z
UID:1723-1668022200-1668025800@centralutahballet.com
SUMMARY:Nutcracker Performance at Covey Center
DESCRIPTION:
URL:https://centralutahballet.com/event/nutcracker-performance-at-covey-center-3/
LOCATION:Covey Center for the Arts\, 425 W Center St\, Provo\, UT\, 84601
CATEGORIES:Chrysalis Ballet,Nutcracker,Performances
END:VEVENT
BEGIN:VEVENT
DTSTART;TZID=America/Denver:20221109T170000
DTEND;TZID=America/Denver:20221109T180000
DTSTAMP:20260422T142426
CREATED:20220614T161637Z
LAST-MODIFIED:20220804T220636Z
UID:1721-1668013200-1668016800@centralutahballet.com
SUMMARY:Nutcracker Performance at Covey Center
DESCRIPTION:
URL:https://centralutahballet.com/event/nutcracker-performance-at-covey-center-2/
LOCATION:Covey Center for the Arts\, 425 W Center St\, Provo\, UT\, 84601
CATEGORIES:Chrysalis Ballet,Nutcracker,Performances
END:VEVENT
BEGIN:VEVENT
DTSTART;TZID=America/Denver:20221108T073000
DTEND;TZID=America/Denver:20221108T203000
DTSTAMP:20260422T142426
CREATED:20220613T161553Z
LAST-MODIFIED:20220804T220611Z
UID:1719-1667892600-1667939400@centralutahballet.com
SUMMARY:Nutcracker Performance at Covey Center
DESCRIPTION:
URL:https://centralutahballet.com/event/nutcracker-performance-at-covey-center/
LOCATION:Covey Center for the Arts\, 425 W Center St\, Provo\, UT\, 84601
CATEGORIES:Chrysalis Ballet,Nutcracker,Performances
END:VEVENT
BEGIN:VEVENT
DTSTART;VALUE=DATE:20220709
DTEND;VALUE=DATE:20220710
DTSTAMP:20260422T142426
CREATED:20220104T022714Z
LAST-MODIFIED:20220104T022714Z
UID:1544-1657324800-1657411199@centralutahballet.com
SUMMARY:Summer Ballet Intensive Performance
DESCRIPTION:
URL:https://centralutahballet.com/event/summer-ballet-intensive-performance/
CATEGORIES:Performances
END:VEVENT
BEGIN:VEVENT
DTSTART;VALUE=DATE:20220512
DTEND;VALUE=DATE:20220514
DTSTAMP:20260422T142426
CREATED:20210731T162541Z
LAST-MODIFIED:20220418T232605Z
UID:1403-1652313600-1652486399@centralutahballet.com
SUMMARY:Ballet to Broadway - Spring Performance
DESCRIPTION:Central Utah Ballet presents “Ballet to Broadway.” Award winning choreographer and storyteller Lindsay Folkman delights and surprises as she re-imagines the Broadway Classics. \nMay 12\, 2022 7:30 PM\nMay 13\, 2022 7:30 PM \nRun time: 105 minutes \nAge policy: Recommended for ages 8 and up. No babes-in-arms. All patrons must have a ticket. \nPurchase tickets by clicking the link below \nhttps://my.arttix.org/overview/28735
URL:https://centralutahballet.com/event/spring-performance/
LOCATION:Mid-Valley Performing Arts Center\, 2525 Taylorsville Blvd\, Taylorsville\, Utah\, 84129
CATEGORIES:Performances
END:VEVENT
END:VCALENDAR