BEGIN:VCALENDAR
VERSION:2.0
PRODID:-//Central Utah Ballet Academy - ECPv6.15.18//NONSGML v1.0//EN
CALSCALE:GREGORIAN
METHOD:PUBLISH
X-ORIGINAL-URL:https://centralutahballet.com
X-WR-CALDESC:Events for Central Utah Ballet Academy
REFRESH-INTERVAL;VALUE=DURATION:PT1H
X-Robots-Tag:noindex
X-PUBLISHED-TTL:PT1H
BEGIN:VTIMEZONE
TZID:America/Denver
BEGIN:DAYLIGHT
TZOFFSETFROM:-0700
TZOFFSETTO:-0600
TZNAME:MDT
DTSTART:20250309T090000
END:DAYLIGHT
BEGIN:STANDARD
TZOFFSETFROM:-0600
TZOFFSETTO:-0700
TZNAME:MST
DTSTART:20251102T080000
END:STANDARD
BEGIN:DAYLIGHT
TZOFFSETFROM:-0700
TZOFFSETTO:-0600
TZNAME:MDT
DTSTART:20260308T090000
END:DAYLIGHT
BEGIN:STANDARD
TZOFFSETFROM:-0600
TZOFFSETTO:-0700
TZNAME:MST
DTSTART:20261101T080000
END:STANDARD
BEGIN:DAYLIGHT
TZOFFSETFROM:-0700
TZOFFSETTO:-0600
TZNAME:MDT
DTSTART:20270314T090000
END:DAYLIGHT
BEGIN:STANDARD
TZOFFSETFROM:-0600
TZOFFSETTO:-0700
TZNAME:MST
DTSTART:20271107T080000
END:STANDARD
END:VTIMEZONE
BEGIN:VEVENT
DTSTART;VALUE=DATE:20260620
DTEND;VALUE=DATE:20260621
DTSTAMP:20260420T013133
CREATED:20260227T221539Z
LAST-MODIFIED:20260227T221918Z
UID:3360-1781913600-1781999999@centralutahballet.com
SUMMARY:Junior and Senior Company Auditions
DESCRIPTION:8:00 — 9:00 am Registration 11-14 year olds\n9:00 — 10:30 am Audition 11-14 year olds \n11:00 — 12:00 pm Registration 15-18 year olds\n12:00 — 1:30 pm Auditiion 15-18 year olds \nAudition fee $25 Donation to Chrysalis Ballet\nCheck\, Cash\, or Venmo
URL:https://centralutahballet.com/event/junior-and-senior-company-auditions-2/
CATEGORIES:Auditions
END:VEVENT
END:VCALENDAR